BEGIN:VCALENDAR
VERSION:2.0
PRODID:floktu.com
X-WR-TIMEZONE:Pacific/Auckland
X-PUBLISHED-TTL:P1W
BEGIN:VEVENT
UID:FloktuEvent26180@floktu.com
DTSTART;TZID=Pacific/Auckland:20201103T193000
SEQUENCE:0
TRANSP:OPAQUE
DTEND;TZID=Pacific/Auckland:20201103T213000
LOCATION:143 Centennial Avenue\, 143 Centennial Avenue\, Alexandra\, Otago
SUMMARY:Say It With Flowers
DESCRIPTION:Visit https://flowers.floktu.com for more information.
DTSTAMP:20260422T054001Z
END:VEVENT
BEGIN:VTIMEZONE
TZID:Pacific/Auckland
X-LIC-LOCATION:Pacific/Auckland
END:VTIMEZONE
END:VCALENDAR