BEGIN:VCALENDAR
VERSION:2.0
PRODID:floktu.com
X-PUBLISHED-TTL:P1W
BEGIN:VEVENT
UID:FloktuEvent26180@floktu.com
DTSTART:20201103T063000Z
SEQUENCE:0
TRANSP:OPAQUE
DTEND:20201103T083000Z
LOCATION:143 Centennial Avenue\, 143 Centennial Avenue\, Alexandra\, Otago
SUMMARY:Say It With Flowers
DESCRIPTION:Visit https://flowers.floktu.com for more information.
DTSTAMP:20260422T071039Z
END:VEVENT
END:VCALENDAR